BEGIN:VCALENDAR
VERSION:2.0
PRODID:-//Royal Victorian Aero Club - ECPv6.15.20//NONSGML v1.0//EN
CALSCALE:GREGORIAN
METHOD:PUBLISH
X-WR-CALNAME:Royal Victorian Aero Club
X-ORIGINAL-URL:https://rvac.com.au
X-WR-CALDESC:Events for Royal Victorian Aero Club
REFRESH-INTERVAL;VALUE=DURATION:PT1H
X-Robots-Tag:noindex
X-PUBLISHED-TTL:PT1H
BEGIN:VTIMEZONE
TZID:Australia/Melbourne
BEGIN:STANDARD
TZOFFSETFROM:+1100
TZOFFSETTO:+1000
TZNAME:AEST
DTSTART:20250405T160000
END:STANDARD
BEGIN:DAYLIGHT
TZOFFSETFROM:+1000
TZOFFSETTO:+1100
TZNAME:AEDT
DTSTART:20251004T160000
END:DAYLIGHT
BEGIN:STANDARD
TZOFFSETFROM:+1100
TZOFFSETTO:+1000
TZNAME:AEST
DTSTART:20260404T160000
END:STANDARD
BEGIN:DAYLIGHT
TZOFFSETFROM:+1000
TZOFFSETTO:+1100
TZNAME:AEDT
DTSTART:20261003T160000
END:DAYLIGHT
BEGIN:STANDARD
TZOFFSETFROM:+1100
TZOFFSETTO:+1000
TZNAME:AEST
DTSTART:20270403T160000
END:STANDARD
BEGIN:DAYLIGHT
TZOFFSETFROM:+1000
TZOFFSETTO:+1100
TZNAME:AEDT
DTSTART:20271002T160000
END:DAYLIGHT
END:VTIMEZONE
BEGIN:VEVENT
DTSTART;TZID=Australia/Melbourne:20260824T090000
DTEND;TZID=Australia/Melbourne:20260904T170000
DTSTAMP:20260422T004410
CREATED:20251123T013329Z
LAST-MODIFIED:20260105T031130Z
UID:4913-1787562000-1788541200@rvac.com.au
SUMMARY:Principles and Methods of Instruction (PMI) - August 2026
DESCRIPTION:Course Description\nThe Principles and Methods of Instruction (PMI) Course delivered by the Royal Victorian Aero Club is designed to prepare future flight instructors with the instructional knowledge and teaching skills required to train student pilots effectively. The course is conducted in a classroom environment by highly experienced Grade 1 flight instructors. \nThroughout the program\, participants will explore the core theories of learning and instruction\, communication strategies\, lesson planning\, student evaluation\, and the human factors that influence training. Content is aligned with the Civil Aviation Safety Authority (CASA) requirements for flight instructor training. \nEach session incorporates interactive presentations\, collaborative activities\, micro-teaching opportunities\, and guided discussions to reinforce instructional techniques. Students will also have access to training resources\, including reference texts\, lesson plan templates\, and practice teaching exercises to support their development as instructors. \nUpon completion\, participants will possess a strong understanding of instructional principles\, learning theory\, and effective teaching methods. They will be well prepared to undertake the instructional flight training component and complete their Pilot Instructor Rating Exam (PIRC). \n\nCourse Objectives\n\nTo develop a comprehensive understanding of adult learning principles and effective instructional methods\nTo prepare students for the PMI requirements of the Flight Instructor Rating syllabus\nTo build core skills in communication\, lesson planning\, and student evaluation\nTo promote a culture of safety\, professionalism\, and effective instruction within aviation training environments\nTo provide a foundational understanding of human factors as they relate to teaching and learning\n\n\nPrerequisites\nYou must holding a valid Australian PPL\, CPL or ATPL licence\, of either aeroplane or helicopter category\, to complete the Pilot Instructor Rating Exam (PIRC). \nIf you do not hold an Australian PPL or CPL or ATPL licence or Certificate of Validation (CoV)\, then any pass obtained in this exam won’t be valid. \n\nRequired Materials (not included in course fee)\n\nCASA Flight Instructor Rating reference materials\nWriting materials\nLaptop or tablet\nAny additional resources recommended by your instructor\n\n\nFor any questions regarding this course\, please contact our friendly team on 03 8586 7777.If you wish to pay via PayID\, Bank Transfer\, or Cash\, please call Flight Operations (Monday to Friday) on 03 8586 7777.
URL:https://rvac.com.au/theory/pmi-aug2026/
LOCATION:Royal Victorian Aero Club\, 31 First Avenue\, Moorabbin Airport\, VIC\, 3194\, Australia
CATEGORIES:PIRC Theory
ATTACH;FMTTYPE=image/jpeg:https://rvac.com.au/wp-content/uploads/R.jpg
END:VEVENT
END:VCALENDAR