BEGIN:VCALENDAR
VERSION:2.0
PRODID:-//Royal Victorian Aero Club - ECPv6.15.20//NONSGML v1.0//EN
CALSCALE:GREGORIAN
METHOD:PUBLISH
X-WR-CALNAME:Royal Victorian Aero Club
X-ORIGINAL-URL:https://rvac.com.au
X-WR-CALDESC:Events for Royal Victorian Aero Club
REFRESH-INTERVAL;VALUE=DURATION:PT1H
X-Robots-Tag:noindex
X-PUBLISHED-TTL:PT1H
BEGIN:VTIMEZONE
TZID:Australia/Melbourne
BEGIN:STANDARD
TZOFFSETFROM:+1100
TZOFFSETTO:+1000
TZNAME:AEST
DTSTART:20250405T160000
END:STANDARD
BEGIN:DAYLIGHT
TZOFFSETFROM:+1000
TZOFFSETTO:+1100
TZNAME:AEDT
DTSTART:20251004T160000
END:DAYLIGHT
BEGIN:STANDARD
TZOFFSETFROM:+1100
TZOFFSETTO:+1000
TZNAME:AEST
DTSTART:20260404T160000
END:STANDARD
BEGIN:DAYLIGHT
TZOFFSETFROM:+1000
TZOFFSETTO:+1100
TZNAME:AEDT
DTSTART:20261003T160000
END:DAYLIGHT
BEGIN:STANDARD
TZOFFSETFROM:+1100
TZOFFSETTO:+1000
TZNAME:AEST
DTSTART:20270403T160000
END:STANDARD
BEGIN:DAYLIGHT
TZOFFSETFROM:+1000
TZOFFSETTO:+1100
TZNAME:AEDT
DTSTART:20271002T160000
END:DAYLIGHT
END:VTIMEZONE
BEGIN:VEVENT
DTSTART;TZID=Australia/Melbourne:20260528T090000
DTEND;TZID=Australia/Melbourne:20260615T170000
DTSTAMP:20260421T230953
CREATED:20251123T010458Z
LAST-MODIFIED:20260105T030846Z
UID:4892-1779958800-1781542800@rvac.com.au
SUMMARY:CPL Meteorology (CMET) - May 2026
DESCRIPTION:Course Description\nCPL Meteorology (CMET) is a comprehensive course designed to provide aspiring commercial pilots with a solid foundation in meteorology and its application to aviation. This course is ideal for individuals who wish to deepen their understanding of weather systems\, meteorological phenomena\, and the impact of weather on flight operations. \nOver the course duration\, students will explore various meteorological concepts\, weather patterns\, and atmospheric phenomena that affect aviation. Through a combination of theoretical instruction and practical exercises\, students will gain the necessary knowledge and skills to interpret weather reports\, forecasts\, and charts\, enabling them to make informed decisions for safe and efficient flight operations. \nKey Course Topics: \n\nIntroduction to Meteorology: An overview of meteorological principles and concepts\, including the structure and composition of the atmosphere\, atmospheric pressure\, temperature\, and humidity.\nWeather Systems and Patterns: Study of global weather systems\, including high and low-pressure systems\, fronts\, air masses\, and the development of weather patterns. Students will learn to identify and interpret weather systems on charts and maps.\nAtmospheric Stability and Clouds: Examination of atmospheric stability\, air masses\, and their impact on cloud formation and types. Students will gain an understanding of cloud identification and the relationship between clouds and weather conditions.\nWeather Hazards: Analysis of various weather hazards\, including thunderstorms\, icing\, turbulence\, fog\, and windshear. Students will learn to recognize and anticipate hazardous weather conditions and develop strategies to mitigate associated risks.\nAviation Weather Services: Introduction to aviation-specific weather services and resources\, such as METARs\, TAFs\, SIGMETs\, and NOTAMs. Students will learn how to access and interpret these reports to make informed decisions regarding flight planning and operations.\nWeather Charts and Analysis: Practical instruction on reading and interpreting weather charts\, including surface analysis charts\, upper-level charts\, and significant weather charts. Students will develop skills in analysing weather data to assess current and forecast conditions.\nWeather Effects on Aircraft Performance: Examination of how weather conditions impact aircraft performance\, including effects on takeoff and landing distances\, climb performance\, and fuel consumption. Students will learn to calculate performance adjustments based on meteorological factors.\nWeather Decision-Making: Application of meteorological knowledge to decision-making processes in aviation. Students will explore the decision-making frameworks and factors involved in determining whether a flight can be safely conducted in certain weather conditions.\n\nCourse Benefits: \n\nComprehensive understanding of meteorological principles and their application to aviation.\nAbility to interpret weather reports\, forecasts\, and charts for flight planning and operations.\nEnhanced awareness of weather hazards and their effects on aircraft performance.\nProficiency in making informed weather-related decisions for safe and efficient flight operations.\nIncreased ability to anticipate and mitigate weather-related risks.\n\nEnrol in the CPL Meteorology (CMET) course today and gain the meteorological knowledge and skills necessary for safe and efficient flight operations in various weather conditions. \nFor any questions in relation to this course\, or if you would like to pay via PayID\, Bank Transfer or Cash\, please call our friendly staff on 03 8586 7777
URL:https://rvac.com.au/theory/cpl-meteorology-may2026/
LOCATION:Royal Victorian Aero Club\, 31 First Avenue\, Moorabbin Airport\, VIC\, 3194\, Australia
CATEGORIES:CPL Theory
ATTACH;FMTTYPE=image/webp:https://rvac.com.au/wp-content/uploads/weather-map-meteorology.webp
ORGANIZER;CN="Deborah Fanning":MAILTO:deborah.fanning@rvac.com.au
END:VEVENT
END:VCALENDAR