BEGIN:VCALENDAR
VERSION:2.0
PRODID:-//Royal Victorian Aero Club - ECPv6.15.20//NONSGML v1.0//EN
CALSCALE:GREGORIAN
METHOD:PUBLISH
X-WR-CALNAME:Royal Victorian Aero Club
X-ORIGINAL-URL:https://rvac.com.au
X-WR-CALDESC:Events for Royal Victorian Aero Club
REFRESH-INTERVAL;VALUE=DURATION:PT1H
X-Robots-Tag:noindex
X-PUBLISHED-TTL:PT1H
BEGIN:VTIMEZONE
TZID:Australia/Melbourne
BEGIN:STANDARD
TZOFFSETFROM:+1100
TZOFFSETTO:+1000
TZNAME:AEST
DTSTART:20250405T160000
END:STANDARD
BEGIN:DAYLIGHT
TZOFFSETFROM:+1000
TZOFFSETTO:+1100
TZNAME:AEDT
DTSTART:20251004T160000
END:DAYLIGHT
BEGIN:STANDARD
TZOFFSETFROM:+1100
TZOFFSETTO:+1000
TZNAME:AEST
DTSTART:20260404T160000
END:STANDARD
BEGIN:DAYLIGHT
TZOFFSETFROM:+1000
TZOFFSETTO:+1100
TZNAME:AEDT
DTSTART:20261003T160000
END:DAYLIGHT
BEGIN:STANDARD
TZOFFSETFROM:+1100
TZOFFSETTO:+1000
TZNAME:AEST
DTSTART:20270403T160000
END:STANDARD
BEGIN:DAYLIGHT
TZOFFSETFROM:+1000
TZOFFSETTO:+1100
TZNAME:AEDT
DTSTART:20271002T160000
END:DAYLIGHT
END:VTIMEZONE
BEGIN:VEVENT
DTSTART;TZID=Australia/Melbourne:20260324T090000
DTEND;TZID=Australia/Melbourne:20260403T170000
DTSTAMP:20260422T032945
CREATED:20251123T002601Z
LAST-MODIFIED:20260105T031633Z
UID:4880-1774342800-1775235600@rvac.com.au
SUMMARY:CPL Aircraft General Knowledge (CSYA) - March 2026
DESCRIPTION:Course Description\nThe CPL Aircraft General Knowledge course (CSYA) is a comprehensive program designed to equip aspiring commercial pilots with a solid foundation of knowledge in aircraft systems\, operations\, and regulations. This course is specifically tailored for individuals pursuing a Commercial Pilot License (CPL) and seeking to enhance their understanding of the essential aspects of aviation. \nThroughout the course duration\, students will delve into various topics crucial for professional pilots\, including aircraft systems\, flight instruments\, aerodynamics\, aircraft performance\, meteorology\, navigation\, and aviation regulations. The course content is structured to provide a comprehensive understanding of the fundamental principles governing aircraft operations and the aviation industry. \nKey Course Highlights: \n\nAircraft Systems: Gain in-depth knowledge of aircraft systems\, including electrical\, hydraulic\, fuel\, and environmental systems. Understand the interconnections and functions of these systems to ensure safe and efficient aircraft operations.\nFlight Instruments: Familiarise yourself with the different flight instruments and their functions. Learn to interpret instrument readings and understand their role in maintaining control and situational awareness during flight.\nAerodynamics: Explore the principles of aerodynamics and their application to flight. Understand the forces acting on an aircraft and how they affect its performance and manoeuvrability.\nAircraft Performance: Study the factors influencing aircraft performance\, such as weight and balance\, takeoff and landing distances\, climb rates\, and cruise performance. Learn to calculate and analyse performance parameters critical for flight planning.\nMeteorology: Develop an understanding of meteorological concepts and their impact on aviation. Learn to interpret weather charts\, understand weather phenomena\, and make informed decisions regarding flight planning and safety.\nNavigation: Acquire knowledge of navigation techniques\, including pilotage\, dead reckoning\, radio navigation aids\, and Global Navigation Satellite Systems (GNSS). Learn to plan and execute flights using various navigation methods.\nAviation Regulations: Gain insights into aviation regulations and legal frameworks governing commercial aviation. Familiarise yourself with relevant national and international regulations\, safety protocols\, and operational guidelines.\n\nBy the end of this course\, participants will have a comprehensive understanding of aircraft systems\, flight operations\, and aviation regulations necessary for the successful completion of the CPL examination. They will be well-prepared to apply their knowledge in real-world scenarios\, ensuring safe and efficient operations as commercial pilots. \nEnrol in the CPL Aircraft General Knowledge (CSYA) course today and take a significant step towards achieving your dream of becoming a professional commercial pilot. \nFor any questions in relation to this course please call our friendly staff on 03 8586 7777.\nIf you would like to pay via PayID\, Bank Transfer or Cash\, please call flight operations Monday to Friday on 03 8586 7777. 
URL:https://rvac.com.au/theory/cpl-aircraft-general-knowledge-mar2026/
LOCATION:Royal Victorian Aero Club\, 31 First Avenue\, Moorabbin Airport\, VIC\, 3194\, Australia
CATEGORIES:CPL Theory
ATTACH;FMTTYPE=image/jpeg:https://rvac.com.au/wp-content/uploads/2025/01/0M4A2288.jpg
ORGANIZER;CN="Deborah Fanning":MAILTO:deborah.fanning@rvac.com.au
END:VEVENT
END:VCALENDAR