BEGIN:VCALENDAR
VERSION:2.0
PRODID:-//Royal Victorian Aero Club - ECPv6.15.20//NONSGML v1.0//EN
CALSCALE:GREGORIAN
METHOD:PUBLISH
X-WR-CALNAME:Royal Victorian Aero Club
X-ORIGINAL-URL:https://rvac.com.au
X-WR-CALDESC:Events for Royal Victorian Aero Club
REFRESH-INTERVAL;VALUE=DURATION:PT1H
X-Robots-Tag:noindex
X-PUBLISHED-TTL:PT1H
BEGIN:VTIMEZONE
TZID:Australia/Melbourne
BEGIN:STANDARD
TZOFFSETFROM:+1100
TZOFFSETTO:+1000
TZNAME:AEST
DTSTART:20250405T160000
END:STANDARD
BEGIN:DAYLIGHT
TZOFFSETFROM:+1000
TZOFFSETTO:+1100
TZNAME:AEDT
DTSTART:20251004T160000
END:DAYLIGHT
BEGIN:STANDARD
TZOFFSETFROM:+1100
TZOFFSETTO:+1000
TZNAME:AEST
DTSTART:20260404T160000
END:STANDARD
BEGIN:DAYLIGHT
TZOFFSETFROM:+1000
TZOFFSETTO:+1100
TZNAME:AEDT
DTSTART:20261003T160000
END:DAYLIGHT
BEGIN:STANDARD
TZOFFSETFROM:+1100
TZOFFSETTO:+1000
TZNAME:AEST
DTSTART:20270403T160000
END:STANDARD
BEGIN:DAYLIGHT
TZOFFSETFROM:+1000
TZOFFSETTO:+1100
TZNAME:AEDT
DTSTART:20271002T160000
END:DAYLIGHT
END:VTIMEZONE
BEGIN:VEVENT
DTSTART;TZID=Australia/Melbourne:20260127T090000
DTEND;TZID=Australia/Melbourne:20260204T170000
DTSTAMP:20260422T074609
CREATED:20251122T233826Z
LAST-MODIFIED:20260107T010806Z
UID:4862-1769504400-1770224400@rvac.com.au
SUMMARY:CPL Navigation (CNAV) - January 2026
DESCRIPTION:Course Description\nThe CPL Navigation (CNAV) course is designed to equip aspiring commercial pilots with the essential knowledge and skills in navigation required for a successful career in aviation. Building upon the foundational principles of private pilot navigation\, this comprehensive course focuses on advanced navigation techniques and procedures specific to commercial aviation. \nThrough a combination of theoretical lessons and practical exercises\, students will develop a thorough understanding of the principles of air navigation\, route planning\, and instrument navigation. The course covers a wide range of topics\, including navigation charts\, flight planning\, radio navigation aids\, GPS navigation\, and instrument approach procedures. \nStudents will also learn to analyze weather patterns and their impact on flight planning and navigation. Special attention is given to interpreting meteorological reports\, understanding weather phenomena\, and making informed decisions regarding safe navigation in various weather conditions. \nThe CNAV course emphasizes hands-on learning\, allowing students to apply their theoretical knowledge in practical scenarios. Simulator sessions provide an opportunity to practice navigation techniques in a controlled environment\, simulating real-world flight situations and enhancing decision-making skills. \nCourse Objectives: \n\nGain a comprehensive understanding of navigation principles\, procedures\, and regulations applicable to commercial aviation.\nDevelop proficiency in using navigation charts\, instruments\, and equipment.\nLearn to plan and execute flight routes\, considering factors such as wind\, airspace restrictions\, and optimal fuel efficiency.\nAcquire skills in radio navigation aids\, including VOR (VHF Omni-directional Range) and NDB (Non-Directional Beacon) navigation.\nUnderstand the application of GPS (Global Positioning System) in aviation navigation.\nLearn to interpret meteorological reports\, analyze weather conditions\, and make informed decisions for safe navigation.\nEnhance decision-making skills and situational awareness through simulator sessions.\nPrepare for CPL Navigation examinations and assessments.\n\nEmbark on your journey to becoming a skilled commercial pilot by enrolling in the CPL Navigation (CNAV) course. Gain the knowledge\, skills\, and confidence to navigate the skies with precision and safety. \nFor any questions in relation to this course\, or if you would like to pay via PayID\, Bank Transfer or Cash\, please call our friendly staff on 03 8586 7777
URL:https://rvac.com.au/theory/cpl-navigation-jan2026/
LOCATION:Royal Victorian Aero Club\, 31 First Avenue\, Moorabbin Airport\, VIC\, 3194\, Australia
CATEGORIES:CPL Theory
ATTACH;FMTTYPE=image/jpeg:https://rvac.com.au/wp-content/uploads/Aircraft.cockpit.instruments.resized.GettyImages-906502516-2.jpg
ORGANIZER;CN="Karen So":MAILTO:karen.so@rvac.com.au
END:VEVENT
END:VCALENDAR