BEGIN:VCALENDAR
VERSION:2.0
PRODID:-//Royal Victorian Aero Club - ECPv6.15.20//NONSGML v1.0//EN
CALSCALE:GREGORIAN
METHOD:PUBLISH
X-WR-CALNAME:Royal Victorian Aero Club
X-ORIGINAL-URL:https://rvac.com.au
X-WR-CALDESC:Events for Royal Victorian Aero Club
REFRESH-INTERVAL;VALUE=DURATION:PT1H
X-Robots-Tag:noindex
X-PUBLISHED-TTL:PT1H
BEGIN:VTIMEZONE
TZID:Australia/Melbourne
BEGIN:STANDARD
TZOFFSETFROM:+1100
TZOFFSETTO:+1000
TZNAME:AEST
DTSTART:20250405T160000
END:STANDARD
BEGIN:DAYLIGHT
TZOFFSETFROM:+1000
TZOFFSETTO:+1100
TZNAME:AEDT
DTSTART:20251004T160000
END:DAYLIGHT
BEGIN:STANDARD
TZOFFSETFROM:+1100
TZOFFSETTO:+1000
TZNAME:AEST
DTSTART:20260404T160000
END:STANDARD
BEGIN:DAYLIGHT
TZOFFSETFROM:+1000
TZOFFSETTO:+1100
TZNAME:AEDT
DTSTART:20261003T160000
END:DAYLIGHT
BEGIN:STANDARD
TZOFFSETFROM:+1100
TZOFFSETTO:+1000
TZNAME:AEST
DTSTART:20270403T160000
END:STANDARD
BEGIN:DAYLIGHT
TZOFFSETFROM:+1000
TZOFFSETTO:+1100
TZNAME:AEDT
DTSTART:20271002T160000
END:DAYLIGHT
END:VTIMEZONE
BEGIN:VEVENT
DTSTART;TZID=Australia/Melbourne:20260420T090000
DTEND;TZID=Australia/Melbourne:20260428T170000
DTSTAMP:20260422T042733
CREATED:20251123T002856Z
LAST-MODIFIED:20260105T015741Z
UID:4883-1776675600-1777395600@rvac.com.au
SUMMARY:CPL Flight Rules and Air Law (CLWA) - April 2026
DESCRIPTION:Course Description\nThe CPL Flight Rules and Air Law (CLWA) course is designed to provide aspiring commercial pilots with a comprehensive understanding of flight rules and air law regulations. This course is essential for individuals pursuing a Commercial Pilot License (CPL) and aiming to build a solid foundation of knowledge regarding aviation laws and regulations governing airspace. \nDuring this course\, students will delve into various topics related to flight rules and air law\, exploring both theoretical concepts and practical applications. \nThe course material will cover a range of subjects\, including but not limited to: \n\nAviation Regulations: Students will gain an in-depth understanding of the aviation regulatory framework\, including national and international regulations governing air traffic\, aircraft operations\, and aviation safety.\nAirspace Classification and Usage: Students will learn about the different classes of airspace\, their characteristics\, and the specific rules and requirements associated with each. They will also explore airspace restrictions\, clearances\, and communications.\nFlight Planning and Navigation: This section focuses on flight planning procedures\, including route selection\, meteorological considerations\, NOTAMs (Notices to Airmen)\, and performance planning. Students will also learn about navigation aids and instruments\, as well as electronic navigation systems.\nAerodrome Operations: Students will gain knowledge of aerodrome operations\, including procedures for takeoff\, landing\, and taxiing. They will also explore the rules and guidelines related to aerodrome markings\, lighting\, and signage.\nRules of the Air: This module covers the fundamental rules that govern the behavior of aircraft in flight. Students will learn about right-of-way rules\, airspace separation\, visual flight rules (VFR)\, instrument flight rules (IFR)\, and emergency procedures.\nAviation Safety and Human Factors: Understanding the importance of aviation safety is crucial for every pilot. This segment focuses on safety management systems\, accident investigation\, human performance and limitations\, crew resource management\, and risk assessment.\n\nThroughout the course\, students will engage in practical exercises\, case studies\, and discussions to reinforce their understanding of flight rules and air law concepts. They will also have the opportunity to apply their knowledge through simulated scenarios and real-world examples. \nFor any questions in relation to this course\, or if you would like to pay via PayID\, Bank Transfer or Cash\, please call our friendly staff on 03 8586 7777
URL:https://rvac.com.au/theory/cpl-air-law-apr2026/
LOCATION:Royal Victorian Aero Club\, 31 First Avenue\, Moorabbin Airport\, VIC\, 3194\, Australia
CATEGORIES:CPL Theory
ATTACH;FMTTYPE=image/jpeg:https://rvac.com.au/wp-content/uploads/aviation-laws.jpeg
ORGANIZER;CN="Deborah Fanning":MAILTO:deborah.fanning@rvac.com.au
END:VEVENT
END:VCALENDAR